BEGIN:VCALENDAR
VERSION:2.0
PRODID:icalendar-ruby
CALSCALE:GREGORIAN
METHOD:PUBLISH
BEGIN:VEVENT
DTSTAMP:20260419T141837Z
UID:9-1281104@greaterworksdeliverance.com
DTSTART:20260826T233000Z
DTEND:20260827T003000Z
CLASS:PUBLIC
CREATED:20260419T072628
DESCRIPTION:Bible study 
LAST-MODIFIED:20260419T072628
LOCATION:4822 Kennedy Ave\, East Chicago\, IN 46312
SUMMARY:Bible study 
URL;VALUE=URI:https://www.greaterworksdeliverance.com/events/bible-study/20
 26-08-26
END:VEVENT
END:VCALENDAR
