BEGIN:VCALENDAR
VERSION:2.0
PRODID:icalendar-ruby
CALSCALE:GREGORIAN
METHOD:PUBLISH
BEGIN:VEVENT
DTSTAMP:20260419T174019Z
UID:9-1281775@greaterworksdeliverance.com
DTSTART:20260909T233000Z
DTEND:20260910T003000Z
CLASS:PUBLIC
CREATED:20260419T110832
DESCRIPTION:Bible study 
LAST-MODIFIED:20260419T110832
LOCATION:4822 Kennedy Ave\, East Chicago\, IN 46312
SUMMARY:Bible study 
URL;VALUE=URI:https://www.greaterworksdeliverance.com/events/bible-study/20
 26-09-09
END:VEVENT
END:VCALENDAR
