BEGIN:VCALENDAR
VERSION:2.0
PRODID:icalendar-ruby
CALSCALE:GREGORIAN
METHOD:PUBLISH
BEGIN:VEVENT
DTSTAMP:20260419T185024Z
UID:9-1281776@greaterworksdeliverance.com
DTSTART:20260916T233000Z
DTEND:20260917T003000Z
CLASS:PUBLIC
CREATED:20260419T110832
DESCRIPTION:Bible study 
LAST-MODIFIED:20260419T110832
LOCATION:4822 Kennedy Ave\, East Chicago\, IN 46312
SUMMARY:Bible study 
URL;VALUE=URI:https://www.greaterworksdeliverance.com/events/bible-study/20
 26-09-16
END:VEVENT
END:VCALENDAR
