BEGIN:VCALENDAR
VERSION:2.0
PRODID:icalendar-ruby
CALSCALE:GREGORIAN
METHOD:PUBLISH
BEGIN:VEVENT
DTSTAMP:20260419T230218Z
UID:9-1282449@greaterworksdeliverance.com
DTSTART:20261007T233000Z
DTEND:20261008T003000Z
CLASS:PUBLIC
CREATED:20260419T145044
DESCRIPTION:Bible study 
LAST-MODIFIED:20260419T145044
LOCATION:4822 Kennedy Ave\, East Chicago\, IN 46312
SUMMARY:Bible study 
URL;VALUE=URI:https://www.greaterworksdeliverance.com/events/bible-study/20
 26-10-07
END:VEVENT
END:VCALENDAR
