BEGIN:VCALENDAR
VERSION:2.0
PRODID:icalendar-ruby
CALSCALE:GREGORIAN
METHOD:PUBLISH
BEGIN:VEVENT
DTSTAMP:20260420T003227Z
UID:9-1283120@greaterworksdeliverance.com
DTSTART:20261014T233000Z
DTEND:20261015T003000Z
CLASS:PUBLIC
CREATED:20260419T183326
DESCRIPTION:Bible study 
LAST-MODIFIED:20260419T183326
LOCATION:4822 Kennedy Ave\, East Chicago\, IN 46312
SUMMARY:Bible study 
URL;VALUE=URI:https://www.greaterworksdeliverance.com/events/bible-study/20
 26-10-14
END:VEVENT
END:VCALENDAR
