BEGIN:VCALENDAR
VERSION:2.0
PRODID:icalendar-ruby
CALSCALE:GREGORIAN
METHOD:PUBLISH
BEGIN:VEVENT
DTSTAMP:20260421T080329Z
UID:11-1288798@greaterworksdeliverance.com
DTSTART:20260620T140000Z
DTEND:20260620T150000Z
CLASS:PUBLIC
CREATED:20260420T193601
DESCRIPTION:Corporate prayer 
LAST-MODIFIED:20260420T193601
LOCATION:4822 Kennedy Ave\, East Chicago\, IN 46312
SUMMARY:Corporate prayer 
URL;VALUE=URI:https://www.greaterworksdeliverance.com/events/corporate-pray
 er/2026-06-20
END:VEVENT
END:VCALENDAR
