BEGIN:VCALENDAR
VERSION:2.0
PRODID:icalendar-ruby
CALSCALE:GREGORIAN
METHOD:PUBLISH
BEGIN:VEVENT
DTSTAMP:20260419T154106Z
UID:11-1281434@greaterworksdeliverance.com
DTSTART:20260725T140000Z
DTEND:20260725T150000Z
CLASS:PUBLIC
CREATED:20260419T072630
DESCRIPTION:Corporate prayer 
LAST-MODIFIED:20260419T072630
LOCATION:4822 Kennedy Ave\, East Chicago\, IN 46312
SUMMARY:Corporate prayer 
URL;VALUE=URI:https://www.greaterworksdeliverance.com/events/corporate-pray
 er/2026-07-25
END:VEVENT
END:VCALENDAR
