BEGIN:VCALENDAR
VERSION:2.0
PRODID:icalendar-ruby
CALSCALE:GREGORIAN
METHOD:PUBLISH
BEGIN:VEVENT
DTSTAMP:20260419T171053Z
UID:11-1282104@greaterworksdeliverance.com
DTSTART:20260801T140000Z
DTEND:20260801T150000Z
CLASS:PUBLIC
CREATED:20260419T110833
DESCRIPTION:Corporate prayer 
LAST-MODIFIED:20260419T110833
LOCATION:4822 Kennedy Ave\, East Chicago\, IN 46312
SUMMARY:Corporate prayer 
URL;VALUE=URI:https://www.greaterworksdeliverance.com/events/corporate-pray
 er/2026-08-01
END:VEVENT
END:VCALENDAR
