BEGIN:VCALENDAR
VERSION:2.0
PRODID:icalendar-ruby
CALSCALE:GREGORIAN
METHOD:PUBLISH
BEGIN:VEVENT
DTSTAMP:20260419T210958Z
UID:11-1282777@greaterworksdeliverance.com
DTSTART:20260822T140000Z
DTEND:20260822T150000Z
CLASS:PUBLIC
CREATED:20260419T145045
DESCRIPTION:Corporate prayer 
LAST-MODIFIED:20260419T145045
LOCATION:4822 Kennedy Ave\, East Chicago\, IN 46312
SUMMARY:Corporate prayer 
URL;VALUE=URI:https://www.greaterworksdeliverance.com/events/corporate-pray
 er/2026-08-22
END:VEVENT
END:VCALENDAR
