BEGIN:VCALENDAR
VERSION:2.0
PRODID:icalendar-ruby
CALSCALE:GREGORIAN
METHOD:PUBLISH
BEGIN:VEVENT
DTSTAMP:20260420T040715Z
UID:11-1284122@greaterworksdeliverance.com
DTSTART:20260926T140000Z
DTEND:20260926T150000Z
CLASS:PUBLIC
CREATED:20260419T221149
DESCRIPTION:Corporate prayer 
LAST-MODIFIED:20260419T221149
LOCATION:4822 Kennedy Ave\, East Chicago\, IN 46312
SUMMARY:Corporate prayer 
URL;VALUE=URI:https://www.greaterworksdeliverance.com/events/corporate-pray
 er/2026-09-26
END:VEVENT
END:VCALENDAR
