BEGIN:VCALENDAR
VERSION:2.0
PRODID:icalendar-ruby
CALSCALE:GREGORIAN
METHOD:PUBLISH
BEGIN:VEVENT
DTSTAMP:20260420T054454Z
UID:11-1284123@greaterworksdeliverance.com
DTSTART:20261003T140000Z
DTEND:20261003T150000Z
CLASS:PUBLIC
CREATED:20260419T221149
DESCRIPTION:Corporate prayer 
LAST-MODIFIED:20260419T221149
LOCATION:4822 Kennedy Ave\, East Chicago\, IN 46312
SUMMARY:Corporate prayer 
URL;VALUE=URI:https://www.greaterworksdeliverance.com/events/corporate-pray
 er/2026-10-03
END:VEVENT
END:VCALENDAR
