BEGIN:VCALENDAR
VERSION:2.0
PRODID:icalendar-ruby
CALSCALE:GREGORIAN
METHOD:PUBLISH
BEGIN:VEVENT
DTSTAMP:20260420T071754Z
UID:11-1284794@greaterworksdeliverance.com
DTSTART:20261010T140000Z
DTEND:20261010T150000Z
CLASS:PUBLIC
CREATED:20260420T014844
DESCRIPTION:Corporate prayer 
LAST-MODIFIED:20260420T014844
LOCATION:4822 Kennedy Ave\, East Chicago\, IN 46312
SUMMARY:Corporate prayer 
URL;VALUE=URI:https://www.greaterworksdeliverance.com/events/corporate-pray
 er/2026-10-10
END:VEVENT
END:VCALENDAR
