BEGIN:VCALENDAR
VERSION:2.0
PRODID:icalendar-ruby
CALSCALE:GREGORIAN
METHOD:PUBLISH
BEGIN:VEVENT
DTSTAMP:20260421T074822Z
UID:10-1288637@greaterworksdeliverance.com
DTSTART:20260807T233000Z
DTEND:20260808T003000Z
CLASS:PUBLIC
CREATED:20260420T193601
DESCRIPTION:Friday night service 
LAST-MODIFIED:20260420T193601
LOCATION:4822 Kennedy Ave\, East Chicago\, IN 46312
SUMMARY:Friday night service 
URL;VALUE=URI:https://www.greaterworksdeliverance.com/events/friday-night-s
 ervice/2026-08-07
END:VEVENT
END:VCALENDAR
