BEGIN:VCALENDAR
VERSION:2.0
PRODID:icalendar-ruby
CALSCALE:GREGORIAN
METHOD:PUBLISH
BEGIN:VEVENT
DTSTAMP:20260419T154354Z
UID:10-1281272@greaterworksdeliverance.com
DTSTART:20260904T233000Z
DTEND:20260905T003000Z
CLASS:PUBLIC
CREATED:20260419T072629
DESCRIPTION:Friday night service 
LAST-MODIFIED:20260419T072629
LOCATION:4822 Kennedy Ave\, East Chicago\, IN 46312
SUMMARY:Friday night service 
URL;VALUE=URI:https://www.greaterworksdeliverance.com/events/friday-night-s
 ervice/2026-09-04
END:VEVENT
END:VCALENDAR
