BEGIN:VCALENDAR
VERSION:2.0
PRODID:icalendar-ruby
CALSCALE:GREGORIAN
METHOD:PUBLISH
BEGIN:VEVENT
DTSTAMP:20260419T171250Z
UID:10-1281942@greaterworksdeliverance.com
DTSTART:20260911T233000Z
DTEND:20260912T003000Z
CLASS:PUBLIC
CREATED:20260419T110832
DESCRIPTION:Friday night service 
LAST-MODIFIED:20260419T110832
LOCATION:4822 Kennedy Ave\, East Chicago\, IN 46312
SUMMARY:Friday night service 
URL;VALUE=URI:https://www.greaterworksdeliverance.com/events/friday-night-s
 ervice/2026-09-11
END:VEVENT
END:VCALENDAR
