BEGIN:VCALENDAR
VERSION:2.0
PRODID:icalendar-ruby
CALSCALE:GREGORIAN
METHOD:PUBLISH
BEGIN:VEVENT
DTSTAMP:20260419T183136Z
UID:10-1281943@greaterworksdeliverance.com
DTSTART:20260918T233000Z
DTEND:20260919T003000Z
CLASS:PUBLIC
CREATED:20260419T110832
DESCRIPTION:Friday night service 
LAST-MODIFIED:20260419T110832
LOCATION:4822 Kennedy Ave\, East Chicago\, IN 46312
SUMMARY:Friday night service 
URL;VALUE=URI:https://www.greaterworksdeliverance.com/events/friday-night-s
 ervice/2026-09-18
END:VEVENT
END:VCALENDAR
