BEGIN:VCALENDAR
VERSION:2.0
PRODID:icalendar-ruby
CALSCALE:GREGORIAN
METHOD:PUBLISH
BEGIN:VEVENT
DTSTAMP:20260419T214259Z
UID:10-1282615@greaterworksdeliverance.com
DTSTART:20261002T233000Z
DTEND:20261003T003000Z
CLASS:PUBLIC
CREATED:20260419T145044
DESCRIPTION:Friday night service 
LAST-MODIFIED:20260419T145044
LOCATION:4822 Kennedy Ave\, East Chicago\, IN 46312
SUMMARY:Friday night service 
URL;VALUE=URI:https://www.greaterworksdeliverance.com/events/friday-night-s
 ervice/2026-10-02
END:VEVENT
END:VCALENDAR
