BEGIN:VCALENDAR
VERSION:2.0
PRODID:icalendar-ruby
CALSCALE:GREGORIAN
METHOD:PUBLISH
BEGIN:VEVENT
DTSTAMP:20260420T015143Z
UID:10-1283288@greaterworksdeliverance.com
DTSTART:20261023T233000Z
DTEND:20261024T003000Z
CLASS:PUBLIC
CREATED:20260419T183327
DESCRIPTION:Friday night service 
LAST-MODIFIED:20260419T183327
LOCATION:4822 Kennedy Ave\, East Chicago\, IN 46312
SUMMARY:Friday night service 
URL;VALUE=URI:https://www.greaterworksdeliverance.com/events/friday-night-s
 ervice/2026-10-23
END:VEVENT
END:VCALENDAR
