BEGIN:VCALENDAR
VERSION:2.0
PRODID:icalendar-ruby
CALSCALE:GREGORIAN
METHOD:PUBLISH
BEGIN:VEVENT
DTSTAMP:20260419T152444Z
UID:8-1280938@greaterworksdeliverance.com
DTSTART:20260830T153000Z
DTEND:20260830T180000Z
CLASS:PUBLIC
CREATED:20260419T072628
DESCRIPTION:
LAST-MODIFIED:20260419T072628
LOCATION:4822 Kennedy Ave\, East Chicago\, IN 46312
SUMMARY:Sunday miracle service
URL;VALUE=URI:https://www.greaterworksdeliverance.com/events/sunday-miracle
 -service--8/2026-08-30
END:VEVENT
END:VCALENDAR
