BEGIN:VCALENDAR
VERSION:2.0
PRODID:icalendar-ruby
CALSCALE:GREGORIAN
METHOD:PUBLISH
BEGIN:VEVENT
DTSTAMP:20260419T182215Z
UID:8-1281609@greaterworksdeliverance.com
DTSTART:20260913T153000Z
DTEND:20260913T180000Z
CLASS:PUBLIC
CREATED:20260419T110832
DESCRIPTION:
LAST-MODIFIED:20260419T110832
LOCATION:4822 Kennedy Ave\, East Chicago\, IN 46312
SUMMARY:Sunday miracle service
URL;VALUE=URI:https://www.greaterworksdeliverance.com/events/sunday-miracle
 -service--8/2026-09-13
END:VEVENT
END:VCALENDAR
