BEGIN:VCALENDAR
VERSION:2.0
PRODID:icalendar-ruby
CALSCALE:GREGORIAN
METHOD:PUBLISH
BEGIN:VEVENT
DTSTAMP:20260419T223619Z
UID:8-1282281@greaterworksdeliverance.com
DTSTART:20261004T153000Z
DTEND:20261004T180000Z
CLASS:PUBLIC
CREATED:20260419T145044
DESCRIPTION:
LAST-MODIFIED:20260419T145044
LOCATION:4822 Kennedy Ave\, East Chicago\, IN 46312
SUMMARY:Sunday miracle service
URL;VALUE=URI:https://www.greaterworksdeliverance.com/events/sunday-miracle
 -service--8/2026-10-04
END:VEVENT
END:VCALENDAR
