BEGIN:VCALENDAR
VERSION:2.0
PRODID:icalendar-ruby
CALSCALE:GREGORIAN
METHOD:PUBLISH
BEGIN:VEVENT
DTSTAMP:20260420T040856Z
UID:8-1283625@greaterworksdeliverance.com
DTSTART:20261101T163000Z
DTEND:20261101T190000Z
CLASS:PUBLIC
CREATED:20260419T221148
DESCRIPTION:
LAST-MODIFIED:20260419T221148
LOCATION:4822 Kennedy Ave\, East Chicago\, IN 46312
SUMMARY:Sunday miracle service
URL;VALUE=URI:https://www.greaterworksdeliverance.com/events/sunday-miracle
 -service--8/2026-11-01
END:VEVENT
END:VCALENDAR
